Package: multicrispr Version: 1.14.0 Command: /Library/Frameworks/R.framework/Resources/bin/R CMD INSTALL multicrispr StartedAt: 2024-10-16 17:20:52 -0400 (Wed, 16 Oct 2024) EndedAt: 2024-10-16 17:21:34 -0400 (Wed, 16 Oct 2024) EllapsedTime: 42.8 seconds RetCode: 0 Status: OK