Package: multicrispr Version: 1.14.0 Command: /Library/Frameworks/R.framework/Resources/bin/R CMD check --install=check:multicrispr.install-out.txt --library=/Library/Frameworks/R.framework/Resources/library --no-vignettes --timings multicrispr_1.14.0.tar.gz StartedAt: 2024-10-17 09:44:55 -0400 (Thu, 17 Oct 2024) EndedAt: 2024-10-17 10:01:56 -0400 (Thu, 17 Oct 2024) EllapsedTime: 1020.4 seconds RetCode: 0 Status: OK CheckDir: multicrispr.Rcheck Warnings: 0