Package: multiscan Version: 1.64.0 Command: rm -rf multiscan.buildbin-libdir && mkdir multiscan.buildbin-libdir && /Users/biocbuild/BBS/utils/build-universal.sh multiscan_1.64.0.tar.gz /Library/Frameworks/R.framework/Resources/bin/R multiscan.buildbin-libdir StartedAt: 2024-10-18 19:40:28 -0400 (Fri, 18 Oct 2024) EndedAt: 2024-10-18 19:40:35 -0400 (Fri, 18 Oct 2024) EllapsedTime: 6.9 seconds RetCode: 0 Status: OK PackageFile: multiscan_1.64.0.tgz PackageFileSize: 778.1 KiB