Package: multiscan Version: 1.64.0 Command: /Library/Frameworks/R.framework/Resources/bin/R CMD build --keep-empty-dirs --no-resave-data multiscan StartedAt: 2024-10-17 05:22:07 -0400 (Thu, 17 Oct 2024) EndedAt: 2024-10-17 05:22:23 -0400 (Thu, 17 Oct 2024) EllapsedTime: 16.0 seconds RetCode: 0 Status: OK PackageFile: multiscan_1.64.0.tar.gz PackageFileSize: 750.9 KiB