Package: multiscan Version: 1.64.0 Command: rm -rf multiscan.buildbin-libdir && mkdir multiscan.buildbin-libdir && F:\biocbuild\bbs-3.19-bioc\R\bin\R.exe CMD INSTALL --build --library=multiscan.buildbin-libdir multiscan_1.64.0.tar.gz StartedAt: 2024-06-27 08:34:27 -0400 (Thu, 27 Jun 2024) EndedAt: 2024-06-27 08:34:36 -0400 (Thu, 27 Jun 2024) EllapsedTime: 8.1 seconds RetCode: 0 Status: OK PackageFile: multiscan_1.64.0.zip PackageFileSize: 564.9 KiB