Package: multiscan Version: 1.64.0 Command: chmod a+r multiscan -R && F:\biocbuild\bbs-3.19-bioc\R\bin\R.exe CMD build --keep-empty-dirs --no-resave-data multiscan StartedAt: 2024-06-26 20:23:28 -0400 (Wed, 26 Jun 2024) EndedAt: 2024-06-26 20:23:47 -0400 (Wed, 26 Jun 2024) EllapsedTime: 19.2 seconds RetCode: 0 Status: OK PackageFile: multiscan_1.64.0.tar.gz PackageFileSize: 532.2 KiB