Package: multiscan Version: 1.64.0 Command: rm -rf multiscan.buildbin-libdir && mkdir multiscan.buildbin-libdir && E:\biocbuild\bbs-3.19-bioc\R\bin\R.exe CMD INSTALL --build --library=multiscan.buildbin-libdir multiscan_1.64.0.tar.gz StartedAt: 2024-10-17 08:13:44 -0400 (Thu, 17 Oct 2024) EndedAt: 2024-10-17 08:13:53 -0400 (Thu, 17 Oct 2024) EllapsedTime: 9.1 seconds RetCode: 0 Status: OK PackageFile: multiscan_1.64.0.zip PackageFileSize: 565.3 KiB