Package: multiscan Version: 1.64.0 Command: chmod a+r multiscan -R && E:\biocbuild\bbs-3.19-bioc\R\bin\R.exe CMD build --keep-empty-dirs --no-resave-data multiscan StartedAt: 2024-10-16 20:36:51 -0400 (Wed, 16 Oct 2024) EndedAt: 2024-10-16 20:37:08 -0400 (Wed, 16 Oct 2024) EllapsedTime: 16.4 seconds RetCode: 0 Status: OK PackageFile: multiscan_1.64.0.tar.gz PackageFileSize: 532.6 KiB