Package: multiscan Version: 1.64.0 Command: E:\biocbuild\bbs-3.19-bioc\R\bin\R.exe CMD INSTALL multiscan StartedAt: 2024-10-16 16:01:41 -0400 (Wed, 16 Oct 2024) EndedAt: 2024-10-16 16:01:51 -0400 (Wed, 16 Oct 2024) EllapsedTime: 10.1 seconds RetCode: 0 Status: OK