Package: multistateQTL Version: 1.0.0 Command: /Library/Frameworks/R.framework/Resources/bin/R CMD build --keep-empty-dirs --no-resave-data multistateQTL StartedAt: 2024-10-17 05:22:16 -0400 (Thu, 17 Oct 2024) EndedAt: 2024-10-17 05:23:23 -0400 (Thu, 17 Oct 2024) EllapsedTime: 66.5 seconds RetCode: 0 Status: OK PackageFile: multistateQTL_1.0.0.tar.gz PackageFileSize: 778.3 KiB