Package: mygene Version: 1.40.0 Command: rm -rf mygene.buildbin-libdir && mkdir mygene.buildbin-libdir && F:\biocbuild\bbs-3.19-bioc\R\bin\R.exe CMD INSTALL --build --library=mygene.buildbin-libdir mygene_1.40.0.tar.gz StartedAt: 2024-06-27 08:34:58 -0400 (Thu, 27 Jun 2024) EndedAt: 2024-06-27 08:35:55 -0400 (Thu, 27 Jun 2024) EllapsedTime: 57.1 seconds RetCode: 0 Status: OK PackageFile: mygene_1.40.0.zip PackageFileSize: 226.9 KiB