Package: mygene Version: 1.40.0 Command: chmod a+r mygene -R && F:\biocbuild\bbs-3.19-bioc\R\bin\R.exe CMD build --keep-empty-dirs --no-resave-data mygene StartedAt: 2024-06-26 20:25:10 -0400 (Wed, 26 Jun 2024) EndedAt: 2024-06-26 20:26:27 -0400 (Wed, 26 Jun 2024) EllapsedTime: 77.2 seconds RetCode: 0 Status: OK PackageFile: mygene_1.40.0.tar.gz PackageFileSize: 167.7 KiB