Package: mygene Version: 1.40.0 Command: F:\biocbuild\bbs-3.19-bioc\R\bin\R.exe CMD check --no-multiarch --install=check:mygene.install-out.txt --library=F:\biocbuild\bbs-3.19-bioc\R\library --no-vignettes --timings mygene_1.40.0.tar.gz StartedAt: 2024-06-27 04:06:20 -0400 (Thu, 27 Jun 2024) EndedAt: 2024-06-27 04:11:34 -0400 (Thu, 27 Jun 2024) EllapsedTime: 313.9 seconds RetCode: 0 Status: OK CheckDir: mygene.Rcheck Warnings: 0