Package: mygene Version: 1.40.0 Command: rm -rf mygene.buildbin-libdir && mkdir mygene.buildbin-libdir && E:\biocbuild\bbs-3.19-bioc\R\bin\R.exe CMD INSTALL --build --library=mygene.buildbin-libdir mygene_1.40.0.tar.gz StartedAt: 2024-10-17 08:14:24 -0400 (Thu, 17 Oct 2024) EndedAt: 2024-10-17 08:15:13 -0400 (Thu, 17 Oct 2024) EllapsedTime: 48.2 seconds RetCode: 0 Status: OK PackageFile: mygene_1.40.0.zip PackageFileSize: 227.4 KiB