Package: mzID Version: 1.42.0 Maintainer: Laurent Gatto MaintainerEmail: laurent.gatto at uclouvain.be git_url: https://git.bioconductor.org/packages/mzID git_branch: RELEASE_3_19 git_last_commit: 3cc435f git_last_commit_date: 2024-04-30 10:33:23 -0400 (Tue, 30 Apr 2024)