Package: mzID Version: 1.42.0 Command: /Library/Frameworks/R.framework/Resources/bin/R CMD build --keep-empty-dirs --no-resave-data mzID StartedAt: 2024-10-16 21:30:48 -0400 (Wed, 16 Oct 2024) EndedAt: 2024-10-16 21:31:19 -0400 (Wed, 16 Oct 2024) EllapsedTime: 30.7 seconds RetCode: 0 Status: OK PackageFile: mzID_1.42.0.tar.gz PackageFileSize: 582.2 KiB