Package: mzID Version: 1.42.0 Command: rm -rf mzID.buildbin-libdir && mkdir mzID.buildbin-libdir && F:\biocbuild\bbs-3.19-bioc\R\bin\R.exe CMD INSTALL --build --library=mzID.buildbin-libdir mzID_1.42.0.tar.gz StartedAt: 2024-06-27 08:35:02 -0400 (Thu, 27 Jun 2024) EndedAt: 2024-06-27 08:35:15 -0400 (Thu, 27 Jun 2024) EllapsedTime: 13.2 seconds RetCode: 0 Status: OK PackageFile: mzID_1.42.0.zip PackageFileSize: 818.3 KiB