Package: mzID Version: 1.42.0 Command: chmod a+r mzID -R && F:\biocbuild\bbs-3.19-bioc\R\bin\R.exe CMD build --keep-empty-dirs --no-resave-data mzID StartedAt: 2024-06-26 20:25:41 -0400 (Wed, 26 Jun 2024) EndedAt: 2024-06-26 20:26:00 -0400 (Wed, 26 Jun 2024) EllapsedTime: 19.6 seconds RetCode: 0 Status: OK PackageFile: mzID_1.42.0.tar.gz PackageFileSize: 575.9 KiB