Package: nanotatoR Version: 1.20.0 Command: /home/biocbuild/R/R-beta-2024-04-15_r86425/bin/R CMD build --keep-empty-dirs --no-resave-data nanotatoR StartedAt: 2024-05-09 02:04:14 -0000 (Thu, 09 May 2024) EndedAt: 2024-05-09 02:04:15 -0000 (Thu, 09 May 2024) EllapsedTime: 1.0 seconds RetCode: 1 Status: ERROR PackageFile: None PackageFileSize: NA