Package: nanotatoR Version: 1.20.0 Command: /home/biocbuild/bbs-3.19-bioc/R/bin/R CMD INSTALL nanotatoR StartedAt: 2024-10-16 16:51:21 -0400 (Wed, 16 Oct 2024) EndedAt: 2024-10-16 16:51:22 -0400 (Wed, 16 Oct 2024) EllapsedTime: 0.2 seconds RetCode: 1 Status: ERROR