Package: ncRNAtools Version: 1.14.0 Command: /home/biocbuild/R/R-beta-2024-04-15_r86425/bin/R CMD INSTALL ncRNAtools StartedAt: 2024-05-08 20:13:42 -0000 (Wed, 08 May 2024) EndedAt: 2024-05-08 20:13:57 -0000 (Wed, 08 May 2024) EllapsedTime: 15.8 seconds RetCode: 0 Status: OK