Package: ncRNAtools Version: 1.14.0 Command: /Library/Frameworks/R.framework/Resources/bin/R CMD check --install=check:ncRNAtools.install-out.txt --library=/Library/Frameworks/R.framework/Resources/library --no-vignettes --timings ncRNAtools_1.14.0.tar.gz StartedAt: 2024-06-09 21:51:26 -0400 (Sun, 09 Jun 2024) EndedAt: 2024-06-09 21:53:41 -0400 (Sun, 09 Jun 2024) EllapsedTime: 135.7 seconds RetCode: 0 Status: OK CheckDir: ncRNAtools.Rcheck Warnings: 0