Package: ncRNAtools Version: 1.14.0 Command: rm -rf ncRNAtools.buildbin-libdir && mkdir ncRNAtools.buildbin-libdir && E:\biocbuild\bbs-3.19-bioc\R\bin\R.exe CMD INSTALL --build --library=ncRNAtools.buildbin-libdir ncRNAtools_1.14.0.tar.gz StartedAt: 2024-10-17 08:15:07 -0400 (Thu, 17 Oct 2024) EndedAt: 2024-10-17 08:15:36 -0400 (Thu, 17 Oct 2024) EllapsedTime: 29.4 seconds RetCode: 0 Status: OK PackageFile: ncRNAtools_1.14.0.zip PackageFileSize: 367.1 KiB