Package: ncRNAtools Version: 1.14.0 Command: chmod a+r ncRNAtools -R && E:\biocbuild\bbs-3.19-bioc\R\bin\R.exe CMD build --keep-empty-dirs --no-resave-data ncRNAtools StartedAt: 2024-10-16 20:41:01 -0400 (Wed, 16 Oct 2024) EndedAt: 2024-10-16 20:42:24 -0400 (Wed, 16 Oct 2024) EllapsedTime: 82.7 seconds RetCode: 0 Status: OK PackageFile: ncRNAtools_1.14.0.tar.gz PackageFileSize: 289.6 KiB