Package: nearBynding Version: 1.14.0 Command: /Library/Frameworks/R.framework/Resources/bin/R CMD build --keep-empty-dirs --no-resave-data nearBynding StartedAt: 2024-10-17 05:32:19 -0400 (Thu, 17 Oct 2024) EndedAt: 2024-10-17 05:34:11 -0400 (Thu, 17 Oct 2024) EllapsedTime: 111.7 seconds RetCode: 0 Status: OK PackageFile: nearBynding_1.14.0.tar.gz PackageFileSize: 3.342 MiB