Package: nearBynding Version: 1.14.0 Command: /Library/Frameworks/R.framework/Resources/bin/R CMD build --keep-empty-dirs --no-resave-data nearBynding StartedAt: 2024-10-16 21:33:22 -0400 (Wed, 16 Oct 2024) EndedAt: 2024-10-16 21:36:52 -0400 (Wed, 16 Oct 2024) EllapsedTime: 210.2 seconds RetCode: 0 Status: OK PackageFile: nearBynding_1.14.0.tar.gz PackageFileSize: 3.342 MiB