Package: nearBynding Version: 1.14.0 Command: /home/biocbuild/bbs-3.19-bioc/R/bin/R CMD check --install=check:nearBynding.install-out.txt --library=/home/biocbuild/bbs-3.19-bioc/R/site-library --timings nearBynding_1.14.0.tar.gz StartedAt: 2024-10-17 03:02:02 -0400 (Thu, 17 Oct 2024) EndedAt: 2024-10-17 03:07:21 -0400 (Thu, 17 Oct 2024) EllapsedTime: 318.6 seconds RetCode: 0 Status: OK CheckDir: nearBynding.Rcheck Warnings: 0