Package: netDx Version: 1.16.0 Command: /home/biocbuild/bbs-3.19-bioc/R/bin/R CMD INSTALL netDx StartedAt: 2024-10-16 16:31:38 -0400 (Wed, 16 Oct 2024) EndedAt: 2024-10-16 16:32:08 -0400 (Wed, 16 Oct 2024) EllapsedTime: 30.1 seconds RetCode: 0 Status: OK