Package: netprioR Version: 1.30.0 Command: rm -rf netprioR.buildbin-libdir && mkdir netprioR.buildbin-libdir && /Users/biocbuild/BBS/utils/build-universal.sh netprioR_1.30.0.tar.gz /Library/Frameworks/R.framework/Resources/bin/R netprioR.buildbin-libdir StartedAt: 2024-06-11 12:19:31 -0400 (Tue, 11 Jun 2024) EndedAt: 2024-06-11 12:19:49 -0400 (Tue, 11 Jun 2024) EllapsedTime: 17.7 seconds RetCode: 0 Status: OK PackageFile: netprioR_1.30.0.tgz PackageFileSize: 729.5 KiB