Package: netprioR Version: 1.30.0 Command: /home/biocbuild/R/R-beta-2024-04-15_r86425/bin/R CMD build --keep-empty-dirs --no-resave-data netprioR StartedAt: 2024-05-09 02:07:13 -0000 (Thu, 09 May 2024) EndedAt: 2024-05-09 02:08:10 -0000 (Thu, 09 May 2024) EllapsedTime: 57.1 seconds RetCode: 0 Status: OK PackageFile: netprioR_1.30.0.tar.gz PackageFileSize: 475.5 KiB