Package: netprioR Version: 1.30.0 Command: /Library/Frameworks/R.framework/Resources/bin/R CMD build --keep-empty-dirs --no-resave-data netprioR StartedAt: 2024-06-09 17:31:02 -0400 (Sun, 09 Jun 2024) EndedAt: 2024-06-09 17:31:43 -0400 (Sun, 09 Jun 2024) EllapsedTime: 40.4 seconds RetCode: 0 Status: OK PackageFile: netprioR_1.30.0.tar.gz PackageFileSize: 542.8 KiB