Package: netprioR Version: 1.30.0 Command: rm -rf netprioR.buildbin-libdir && mkdir netprioR.buildbin-libdir && F:\biocbuild\bbs-3.19-bioc\R\bin\R.exe CMD INSTALL --build --library=netprioR.buildbin-libdir netprioR_1.30.0.tar.gz StartedAt: 2024-06-27 08:35:46 -0400 (Thu, 27 Jun 2024) EndedAt: 2024-06-27 08:36:04 -0400 (Thu, 27 Jun 2024) EllapsedTime: 17.5 seconds RetCode: 0 Status: OK PackageFile: netprioR_1.30.0.zip PackageFileSize: 602 KiB