Package: netprioR Version: 1.30.0 Command: chmod a+r netprioR -R && F:\biocbuild\bbs-3.19-bioc\R\bin\R.exe CMD build --keep-empty-dirs --no-resave-data netprioR StartedAt: 2024-06-26 20:29:12 -0400 (Wed, 26 Jun 2024) EndedAt: 2024-06-26 20:30:18 -0400 (Wed, 26 Jun 2024) EllapsedTime: 65.7 seconds RetCode: 0 Status: OK PackageFile: netprioR_1.30.0.tar.gz PackageFileSize: 420.7 KiB