Package: ngsReports Version: 2.6.1 Command: /Library/Frameworks/R.framework/Resources/bin/R CMD build --keep-empty-dirs --no-resave-data ngsReports StartedAt: 2024-10-17 05:39:32 -0400 (Thu, 17 Oct 2024) EndedAt: 2024-10-17 05:40:36 -0400 (Thu, 17 Oct 2024) EllapsedTime: 63.6 seconds RetCode: 0 Status: OK PackageFile: ngsReports_2.6.1.tar.gz PackageFileSize: 3.189 MiB