Package: ngsReports Version: 2.6.1 Command: /Library/Frameworks/R.framework/Resources/bin/R CMD INSTALL ngsReports StartedAt: 2024-10-16 17:29:09 -0400 (Wed, 16 Oct 2024) EndedAt: 2024-10-16 17:29:31 -0400 (Wed, 16 Oct 2024) EllapsedTime: 22.1 seconds RetCode: 0 Status: OK