Package: ngsReports Version: 2.6.0 Command: /Library/Frameworks/R.framework/Resources/bin/R CMD check --install=check:ngsReports.install-out.txt --library=/Library/Frameworks/R.framework/Resources/library --no-vignettes --timings ngsReports_2.6.0.tar.gz StartedAt: 2024-06-10 23:50:48 -0400 (Mon, 10 Jun 2024) EndedAt: 2024-06-10 23:55:56 -0400 (Mon, 10 Jun 2024) EllapsedTime: 308.1 seconds RetCode: 0 Status: OK CheckDir: ngsReports.Rcheck Warnings: 0