Package: ngsReports Version: 2.6.0 Command: /home/biocbuild/R/R-beta-2024-04-15_r86425/bin/R CMD build --keep-empty-dirs --no-resave-data ngsReports StartedAt: 2024-05-09 02:08:15 -0000 (Thu, 09 May 2024) EndedAt: 2024-05-09 02:09:58 -0000 (Thu, 09 May 2024) EllapsedTime: 102.2 seconds RetCode: 0 Status: OK PackageFile: ngsReports_2.6.0.tar.gz PackageFileSize: 1.898 MiB