Package: ngsReports Version: 2.6.0 Command: /Library/Frameworks/R.framework/Resources/bin/R CMD check --install=check:ngsReports.install-out.txt --library=/Library/Frameworks/R.framework/Resources/library --no-vignettes --timings ngsReports_2.6.0.tar.gz StartedAt: 2024-06-09 21:53:13 -0400 (Sun, 09 Jun 2024) EndedAt: 2024-06-09 21:56:40 -0400 (Sun, 09 Jun 2024) EllapsedTime: 206.6 seconds RetCode: 0 Status: OK CheckDir: ngsReports.Rcheck Warnings: 0