Package: ngsReports Version: 2.6.1 Command: rm -rf ngsReports.buildbin-libdir && mkdir ngsReports.buildbin-libdir && /Users/biocbuild/BBS/utils/build-universal.sh ngsReports_2.6.1.tar.gz /Library/Frameworks/R.framework/Resources/bin/R ngsReports.buildbin-libdir StartedAt: 2024-10-17 16:44:21 -0400 (Thu, 17 Oct 2024) EndedAt: 2024-10-17 16:45:16 -0400 (Thu, 17 Oct 2024) EllapsedTime: 55.0 seconds RetCode: 0 Status: OK PackageFile: ngsReports_2.6.1.tgz PackageFileSize: 3.79 MiB