Package: ngsReports Version: 2.6.1 Command: /home/biocbuild/bbs-3.19-bioc/R/bin/R CMD build --keep-empty-dirs --no-resave-data ngsReports StartedAt: 2024-10-16 19:47:40 -0400 (Wed, 16 Oct 2024) EndedAt: 2024-10-16 19:48:44 -0400 (Wed, 16 Oct 2024) EllapsedTime: 64.1 seconds RetCode: 0 Status: OK PackageFile: ngsReports_2.6.1.tar.gz PackageFileSize: 2.741 MiB