Package: ngsReports Version: 2.6.1 Command: /home/biocbuild/bbs-3.19-bioc/R/bin/R CMD INSTALL ngsReports StartedAt: 2024-10-16 16:20:57 -0400 (Wed, 16 Oct 2024) EndedAt: 2024-10-16 16:21:14 -0400 (Wed, 16 Oct 2024) EllapsedTime: 17.7 seconds RetCode: 0 Status: OK