Package: ngsReports Version: 2.6.0 Command: chmod a+r ngsReports -R && F:\biocbuild\bbs-3.19-bioc\R\bin\R.exe CMD build --keep-empty-dirs --no-resave-data ngsReports StartedAt: 2024-06-26 20:29:58 -0400 (Wed, 26 Jun 2024) EndedAt: 2024-06-26 20:31:47 -0400 (Wed, 26 Jun 2024) EllapsedTime: 109.8 seconds RetCode: 0 Status: OK PackageFile: ngsReports_2.6.0.tar.gz PackageFileSize: 1.602 MiB