Package: ngsReports Version: 2.6.0 Command: F:\biocbuild\bbs-3.19-bioc\R\bin\R.exe CMD check --no-multiarch --install=check:ngsReports.install-out.txt --library=F:\biocbuild\bbs-3.19-bioc\R\library --no-vignettes --timings ngsReports_2.6.0.tar.gz StartedAt: 2024-06-27 04:14:02 -0400 (Thu, 27 Jun 2024) EndedAt: 2024-06-27 04:18:05 -0400 (Thu, 27 Jun 2024) EllapsedTime: 243.5 seconds RetCode: 0 Status: OK CheckDir: ngsReports.Rcheck Warnings: 0