Package: ngsReports Version: 2.6.1 Command: E:\biocbuild\bbs-3.19-bioc\R\bin\R.exe CMD check --no-multiarch --install=check:ngsReports.install-out.txt --library=E:\biocbuild\bbs-3.19-bioc\R\library --no-vignettes --timings ngsReports_2.6.1.tar.gz StartedAt: 2024-10-17 03:58:28 -0400 (Thu, 17 Oct 2024) EndedAt: 2024-10-17 04:02:18 -0400 (Thu, 17 Oct 2024) EllapsedTime: 230.8 seconds RetCode: 0 Status: OK CheckDir: ngsReports.Rcheck Warnings: 0