Package: nipalsMCIA Version: 1.2.1 Command: /home/biocbuild/bbs-3.19-bioc/R/bin/R CMD build --keep-empty-dirs --no-resave-data nipalsMCIA StartedAt: 2024-10-16 19:47:57 -0400 (Wed, 16 Oct 2024) EndedAt: 2024-10-16 19:52:01 -0400 (Wed, 16 Oct 2024) EllapsedTime: 244.6 seconds RetCode: 0 Status: OK PackageFile: nipalsMCIA_1.2.1.tar.gz PackageFileSize: 3.469 MiB