Package: nnNorm Version: 2.68.0 Command: /Library/Frameworks/R.framework/Resources/bin/R CMD build --keep-empty-dirs --no-resave-data nnNorm StartedAt: 2024-06-10 01:45:08 -0400 (Mon, 10 Jun 2024) EndedAt: 2024-06-10 01:46:14 -0400 (Mon, 10 Jun 2024) EllapsedTime: 66.0 seconds RetCode: 0 Status: OK PackageFile: nnNorm_2.68.0.tar.gz PackageFileSize: 1.59 MiB