Package: nnNorm Version: 2.68.0 Command: rm -rf nnNorm.buildbin-libdir && mkdir nnNorm.buildbin-libdir && /Users/biocbuild/BBS/utils/build-universal.sh nnNorm_2.68.0.tar.gz /Library/Frameworks/R.framework/Resources/bin/R nnNorm.buildbin-libdir StartedAt: 2024-10-17 16:44:25 -0400 (Thu, 17 Oct 2024) EndedAt: 2024-10-17 16:44:33 -0400 (Thu, 17 Oct 2024) EllapsedTime: 8.3 seconds RetCode: 0 Status: OK PackageFile: nnNorm_2.68.0.tgz PackageFileSize: 195.8 KiB