Package: nnNorm Version: 2.68.0 Command: /Library/Frameworks/R.framework/Resources/bin/R CMD INSTALL nnNorm StartedAt: 2024-10-16 15:12:06 -0400 (Wed, 16 Oct 2024) EndedAt: 2024-10-16 15:12:36 -0400 (Wed, 16 Oct 2024) EllapsedTime: 29.6 seconds RetCode: 0 Status: OK