Package: npGSEA Version: 1.40.0 Command: /Library/Frameworks/R.framework/Resources/bin/R CMD build --keep-empty-dirs --no-resave-data npGSEA StartedAt: 2024-10-17 05:43:49 -0400 (Thu, 17 Oct 2024) EndedAt: 2024-10-17 05:44:33 -0400 (Thu, 17 Oct 2024) EllapsedTime: 43.9 seconds RetCode: 0 Status: OK PackageFile: npGSEA_1.40.0.tar.gz PackageFileSize: 357.4 KiB