Package: npGSEA Version: 1.40.0 Command: /Library/Frameworks/R.framework/Resources/bin/R CMD check --install=check:npGSEA.install-out.txt --library=/Library/Frameworks/R.framework/Resources/library --no-vignettes --timings npGSEA_1.40.0.tar.gz StartedAt: 2024-10-18 06:12:13 -0400 (Fri, 18 Oct 2024) EndedAt: 2024-10-18 06:14:19 -0400 (Fri, 18 Oct 2024) EllapsedTime: 126.0 seconds RetCode: 0 Status: OK CheckDir: npGSEA.Rcheck Warnings: 0